BEGIN:VCALENDAR
VERSION:2.0
PRODID:-//AfD Kreisverband Oberberg - ECPv6.15.20//NONSGML v1.0//EN
CALSCALE:GREGORIAN
METHOD:PUBLISH
X-ORIGINAL-URL:https://afd-oberberg.de
X-WR-CALDESC:Veranstaltungen für AfD Kreisverband Oberberg
REFRESH-INTERVAL;VALUE=DURATION:PT1H
X-Robots-Tag:noindex
X-PUBLISHED-TTL:PT1H
BEGIN:VTIMEZONE
TZID:Europe/Berlin
BEGIN:DAYLIGHT
TZOFFSETFROM:+0100
TZOFFSETTO:+0200
TZNAME:CEST
DTSTART:20160327T010000
END:DAYLIGHT
BEGIN:STANDARD
TZOFFSETFROM:+0200
TZOFFSETTO:+0100
TZNAME:CET
DTSTART:20161030T010000
END:STANDARD
BEGIN:DAYLIGHT
TZOFFSETFROM:+0100
TZOFFSETTO:+0200
TZNAME:CEST
DTSTART:20170326T010000
END:DAYLIGHT
BEGIN:STANDARD
TZOFFSETFROM:+0200
TZOFFSETTO:+0100
TZNAME:CET
DTSTART:20171029T010000
END:STANDARD
BEGIN:DAYLIGHT
TZOFFSETFROM:+0100
TZOFFSETTO:+0200
TZNAME:CEST
DTSTART:20180325T010000
END:DAYLIGHT
BEGIN:STANDARD
TZOFFSETFROM:+0200
TZOFFSETTO:+0100
TZNAME:CET
DTSTART:20181028T010000
END:STANDARD
END:VTIMEZONE
BEGIN:VEVENT
DTSTART;TZID=Europe/Berlin:20171116T114500
DTEND;TZID=Europe/Berlin:20171116T150000
DTSTAMP:20260420T152400
CREATED:20171113T165224Z
LAST-MODIFIED:20171113T165906Z
UID:27371-1510832700-1510844400@afd-oberberg.de
SUMMARY:offene Besuchergruppe im Landtag 16.11.2017
DESCRIPTION:Sehr geehrte Damen und Herren\,\nliebe Freunde der ehrlichen Politik\, \nam 14.05.2017 sind wir mit 7\,4% in den Düsseldorfer Landtag eingezogen und leisten seitdem harte\, aber konstruktive Oppositionsarbeit. Das Parlament soll unserer Auffassung nach jedoch kein Elfenbeinturm sein\, von dem aus knapp zweihundert Abgeordnete über fast achtzehn Millionen Menschen bestimmen: Im Geiste unserer basisdemokratischen Ausrichtung möchten wir den Mitgliedern unserer Partei einen möglichst tiefen und authentischen Einblick in die tägliche Arbeit des Parlaments gewähren. \nHierzu bieten wir Ihnen die Möglichkeit\, der AfD-Fraktion im Rahmen einer Besuchergruppe über die Schulter zu schauen und im Dialog mit Ihren Abgeordneten persönliche Erfahrungen und politische Standpunkte auszutauschen. Auch für das leibliche Wohl wird natürlich gesorgt sein. Es ist uns ein besonderes Anliegen\, den engagierten Kreisverbandsmitgliedern den direkten Kontakt zu ihren Abgeordneten sowie das hautnahe Gefühl für die Arbeit im größten Landesparlament Deutschlands zu ermöglichen. \nDa die Plätze für Besuchergruppen begrenzt sind und der Andrang groß\, sollten Sie sich schnellstmöglich mit uns in Verbindung setzen. Der nächste Termin ist Donnerstag\, der 16. November 2017. \nAnmeldung an: \nDaniel Schwach  \nE-Mail: daniel.schwach@landtag.nrw.de \nTel.: 0211 884 4544 \n 
URL:https://afd-oberberg.de/event/offene-besuchergruppe-im-landtag-16-11-2017/
LOCATION:Landtag Nordrhein-Westfalen\, Platz des Landtags 1\, Düsseldorf\, 40221\, Deutschland
CATEGORIES:AfD Fraktion
END:VEVENT
BEGIN:VEVENT
DTSTART;TZID=Europe/Berlin:20171123T193000
DTEND;TZID=Europe/Berlin:20171123T193000
DTSTAMP:20260420T152400
CREATED:20171113T170253Z
LAST-MODIFIED:20171113T170322Z
UID:27376-1511465400-1511465400@afd-oberberg.de
SUMMARY:Markus Wagner kommt nach Siegen
DESCRIPTION:Mit Sicherheit für NRW \nInfoabend am Donnerstag\, den 23.11.2017 der AfD-Landtagsfraktion NRW in der Bismarckhalle in Siegen. \nMarkus Wagner\, der Fraktionsvorsitzende der AfD-Landtagsfraktion NRW\, kommt am 23.11.2017 nach Siegen. In seinem kurzweiligen Vortrag wird er aus der Arbeit im Landtag berichten. Speziell am Beispiel des Innenausschusses zum Bereich Innere Sicherheit wird er darstellen\, wie und welche Themen die AfD  in den Landtag einbringt und vertritt. \nSeien Sie also gespannt auf einen informativen Abend rund um den politischen Alltag im Landtag. \n____________________________________\nBeginn: 19:30 Uhr (Einlass ab 18:30 Uhr) \nPlatzreservierung unter Presse@AfD-Fraktion.NRW \n 
URL:https://afd-oberberg.de/event/markus-wagner-kommt-nach-siegen/
CATEGORIES:AfD Fraktion
ORGANIZER;CN="AfD Landtagsfraktion NRW":MAILTO:Presse@AfD-Fraktion.NRW
END:VEVENT
BEGIN:VEVENT
DTSTART;TZID=Europe/Berlin:20171130T140000
DTEND;TZID=Europe/Berlin:20171130T170000
DTSTAMP:20260420T152400
CREATED:20171113T165535Z
LAST-MODIFIED:20200407T095644Z
UID:27373-1512050400-1512061200@afd-oberberg.de
SUMMARY:Zusatztermin: offene Besuchergruppe im Landtag 30.11.2017
DESCRIPTION:Sehr geehrte Damen und Herren\,\nliebe Freunde der ehrlichen Politik\, \nwir freuen uns sehr über die hohe Nachfrage zu unseren offenen Besuchergruppen im  Landtag. Deshalb haben wir eine weitere offene Besuchergruppe für den 30.11.2017 angemeldet und freuen uns auf Ihre Teilnahme. \nSchauen Sie den Landtagsabgeordneten und Ihrer AfD-Fraktion über die Schulter. Natürlich findet sich Zeit für einen Dialog mit AFD-Abgeordneten und auch für das leibliche Wohl wird gesorgt sein. Erleben Sie hautnah die Arbeit im größten Landesparlament Deutschlands. \nDa die Plätze für Besuchergruppen begrenzt und der Andrang groß ist\, melden Sie sich bitte schnellstmöglich bei uns an. \nDer nächste Termin ist Donnerstag\, der 30. November 2017.
URL:https://afd-oberberg.de/event/zusatztermin-offene-besuchergruppe-im-landtag-30-11-2017/
LOCATION:Landtag Nordrhein-Westfalen\, Platz des Landtags 1\, Düsseldorf\, 40221\, Deutschland
CATEGORIES:AfD Fraktion
END:VEVENT
END:VCALENDAR