BEGIN:VCALENDAR
VERSION:2.0
PRODID:-//AfD Kreisverband Oberberg - ECPv6.15.20//NONSGML v1.0//EN
CALSCALE:GREGORIAN
METHOD:PUBLISH
X-WR-CALNAME:AfD Kreisverband Oberberg
X-ORIGINAL-URL:https://afd-oberberg.de
X-WR-CALDESC:Veranstaltungen für AfD Kreisverband Oberberg
REFRESH-INTERVAL;VALUE=DURATION:PT1H
X-Robots-Tag:noindex
X-PUBLISHED-TTL:PT1H
BEGIN:VTIMEZONE
TZID:Europe/Berlin
BEGIN:DAYLIGHT
TZOFFSETFROM:+0100
TZOFFSETTO:+0200
TZNAME:CEST
DTSTART:20160327T010000
END:DAYLIGHT
BEGIN:STANDARD
TZOFFSETFROM:+0200
TZOFFSETTO:+0100
TZNAME:CET
DTSTART:20161030T010000
END:STANDARD
BEGIN:DAYLIGHT
TZOFFSETFROM:+0100
TZOFFSETTO:+0200
TZNAME:CEST
DTSTART:20170326T010000
END:DAYLIGHT
BEGIN:STANDARD
TZOFFSETFROM:+0200
TZOFFSETTO:+0100
TZNAME:CET
DTSTART:20171029T010000
END:STANDARD
BEGIN:DAYLIGHT
TZOFFSETFROM:+0100
TZOFFSETTO:+0200
TZNAME:CEST
DTSTART:20180325T010000
END:DAYLIGHT
BEGIN:STANDARD
TZOFFSETFROM:+0200
TZOFFSETTO:+0100
TZNAME:CET
DTSTART:20181028T010000
END:STANDARD
END:VTIMEZONE
BEGIN:VEVENT
DTSTART;TZID=Europe/Berlin:20170511T080000
DTEND;TZID=Europe/Berlin:20170511T140000
DTSTAMP:20260421T002032
CREATED:20170510T200751Z
LAST-MODIFIED:20170510T200751Z
UID:14123-1494489600-1494511200@afd-oberberg.de
SUMMARY:Infostand in Waldbröl
DESCRIPTION:Am Donnerstag\, dem 11.5. wird die AfD Oberberg wieder auf dem Traditionsmarkt in Waldbröl mit einem Infostand präsent sein. Spontane Helfer aus unseren Reihen sind willkommen. \nIhr \nKreisvorstand der AfD Oberberg \n 
URL:https://afd-oberberg.de/event/infostand-in-waldbroel/
END:VEVENT
BEGIN:VEVENT
DTSTART;TZID=Europe/Berlin:20170513T100000
DTEND;TZID=Europe/Berlin:20170513T143000
DTSTAMP:20260421T002032
CREATED:20170512T174953Z
LAST-MODIFIED:20170512T174953Z
UID:14148-1494669600-1494685800@afd-oberberg.de
SUMMARY:Infostand in Gummersbach am Samstag\, 13.5.
DESCRIPTION:Am Samstag\, 13.5. werden wir die letzte Infostand Aktion vor der Wahl durchführen\, und zwar in Gummersbach in der Kaiserstraße gegenüber der Alten Vogtei. Spontane Helfer aus unseren Reihen sind willkommen! \nMit herzlichem Gruß\, \nIhr \nAfD Kreisvorstand Oberberg
URL:https://afd-oberberg.de/event/infostand-in-gummersbach-am-samstag-13-5/
END:VEVENT
BEGIN:VEVENT
DTSTART;TZID=Europe/Berlin:20170530T190000
DTEND;TZID=Europe/Berlin:20170530T210000
DTSTAMP:20260421T002032
CREATED:20170523T110118Z
LAST-MODIFIED:20170523T110118Z
UID:14230-1496170800-1496178000@afd-oberberg.de
SUMMARY:Bürgertreff in Wiehl
DESCRIPTION:Der nächste offene Bürgertreff in Wiehl findet am Dienstag\, dem 30. 5. im „Plattes“ in Wiehl\, Hauptstraße 35\, statt. Beginn ist um 19.00 Uhr. Gäste und Interessierte sind willkommen. Wir freuen uns auf lebhafte Diskussionen. \nIhr \nAfD Kreisverband Oberberg
URL:https://afd-oberberg.de/event/buergertreff-in-wiehl/
END:VEVENT
END:VCALENDAR