BEGIN:VCALENDAR
VERSION:2.0
PRODID:-//AfD Kreisverband Oberberg - ECPv6.15.20//NONSGML v1.0//EN
CALSCALE:GREGORIAN
METHOD:PUBLISH
X-WR-CALNAME:AfD Kreisverband Oberberg
X-ORIGINAL-URL:https://afd-oberberg.de
X-WR-CALDESC:Veranstaltungen für AfD Kreisverband Oberberg
REFRESH-INTERVAL;VALUE=DURATION:PT1H
X-Robots-Tag:noindex
X-PUBLISHED-TTL:PT1H
BEGIN:VTIMEZONE
TZID:Europe/Berlin
BEGIN:DAYLIGHT
TZOFFSETFROM:+0100
TZOFFSETTO:+0200
TZNAME:CEST
DTSTART:20150329T010000
END:DAYLIGHT
BEGIN:STANDARD
TZOFFSETFROM:+0200
TZOFFSETTO:+0100
TZNAME:CET
DTSTART:20151025T010000
END:STANDARD
BEGIN:DAYLIGHT
TZOFFSETFROM:+0100
TZOFFSETTO:+0200
TZNAME:CEST
DTSTART:20160327T010000
END:DAYLIGHT
BEGIN:STANDARD
TZOFFSETFROM:+0200
TZOFFSETTO:+0100
TZNAME:CET
DTSTART:20161030T010000
END:STANDARD
BEGIN:DAYLIGHT
TZOFFSETFROM:+0100
TZOFFSETTO:+0200
TZNAME:CEST
DTSTART:20170326T010000
END:DAYLIGHT
BEGIN:STANDARD
TZOFFSETFROM:+0200
TZOFFSETTO:+0100
TZNAME:CET
DTSTART:20171029T010000
END:STANDARD
END:VTIMEZONE
BEGIN:VEVENT
DTSTART;TZID=Europe/Berlin:20161013T190000
DTEND;TZID=Europe/Berlin:20161013T210000
DTSTAMP:20260423T141441
CREATED:20160930T092856Z
LAST-MODIFIED:20160930T092856Z
UID:13041-1476385200-1476392400@afd-oberberg.de
SUMMARY:Vortrag des Schweizer Wissenschaftlers Dudo Erny
DESCRIPTION:Am Donnerstag\, dem 13. Oktober 2016\, 19.00 Uhr referiert der Schweizer Autor Dudo Erny auf Einladung des AfD Kreisverbands Siegen – Wittgenstein in der Siegerlandhalle\, Eintracht -Saal\, zum Thema „Bevölkerungsexplosion\, Ökolgie und Migration“. Der Eintrtt ist frei. \nWie die niedrige Geburtenrate und die unkontrollierte Zuwanderung nach Europa diesen Kontinent ins Verderben stürzen werden\, erläutert er in seinem 2015 erschienen Buch „Das Verschwinden der Europäer“. \nDudo Erny wurde 1953 in Jugoslawien geboren und ist 1965 mit der Familie in die Schweiz ausgewandert\, wo er an der Universität in Zürich Geografie sudiert  hat. Seine Bücher und Vorträge finden weltweit Beachtung. \nMit freundlichen Grüßen\, \nKlaus-J. Buchner \nSprecher der AfD Siegen – Wittgenstein \n  \n 
URL:https://afd-oberberg.de/event/vortrag-des-schweizer-wissenschaftlers-dudo-erny/
END:VEVENT
BEGIN:VEVENT
DTSTART;TZID=Europe/Berlin:20161014T190000
DTEND;TZID=Europe/Berlin:20161014T213000
DTSTAMP:20260423T141441
CREATED:20161003T081134Z
LAST-MODIFIED:20190405T155859Z
UID:13039-1476471600-1476480600@afd-oberberg.de
SUMMARY:Stammtisch mit Vortrag in Marienheide
DESCRIPTION:Liebe Mitglieder\, Förderer und Freunde der AfD Oberberg\, \nunser nächster Stammtisch findet am Freitag\, dem 14.10.16. in Marienheide statt. Er beginnt wie immer um 19.00. \nAus den bekannten Gründen wird der Ort erst wieder kurz vor der Veranstaltung bekannt gegeben. \nIn der Hoffnung auf guten Besuch\, \nherzliche Grüße\, \nIhr Kreisvorstand der AfD Oberberg \n 
URL:https://afd-oberberg.de/event/stammtisch-mit-vortrag-in-marienheide/
END:VEVENT
END:VCALENDAR