BEGIN:VCALENDAR
VERSION:2.0
PRODID:-//AfD Kreisverband Oberberg - ECPv6.15.20//NONSGML v1.0//EN
CALSCALE:GREGORIAN
METHOD:PUBLISH
X-ORIGINAL-URL:https://afd-oberberg.de
X-WR-CALDESC:Veranstaltungen für AfD Kreisverband Oberberg
REFRESH-INTERVAL;VALUE=DURATION:PT1H
X-Robots-Tag:noindex
X-PUBLISHED-TTL:PT1H
BEGIN:VTIMEZONE
TZID:Europe/Berlin
BEGIN:DAYLIGHT
TZOFFSETFROM:+0100
TZOFFSETTO:+0200
TZNAME:CEST
DTSTART:20150329T010000
END:DAYLIGHT
BEGIN:STANDARD
TZOFFSETFROM:+0200
TZOFFSETTO:+0100
TZNAME:CET
DTSTART:20151025T010000
END:STANDARD
BEGIN:DAYLIGHT
TZOFFSETFROM:+0100
TZOFFSETTO:+0200
TZNAME:CEST
DTSTART:20160327T010000
END:DAYLIGHT
BEGIN:STANDARD
TZOFFSETFROM:+0200
TZOFFSETTO:+0100
TZNAME:CET
DTSTART:20161030T010000
END:STANDARD
BEGIN:DAYLIGHT
TZOFFSETFROM:+0100
TZOFFSETTO:+0200
TZNAME:CEST
DTSTART:20170326T010000
END:DAYLIGHT
BEGIN:STANDARD
TZOFFSETFROM:+0200
TZOFFSETTO:+0100
TZNAME:CET
DTSTART:20171029T010000
END:STANDARD
END:VTIMEZONE
BEGIN:VEVENT
DTSTART;TZID=Europe/Berlin:20160907T190000
DTEND;TZID=Europe/Berlin:20160907T210000
DTSTAMP:20260423T154122
CREATED:20160829T164131Z
LAST-MODIFIED:20160829T164131Z
UID:12956-1473274800-1473282000@afd-oberberg.de
SUMMARY:Stammtisch in Gummersbach am 7.9.
DESCRIPTION:Am Mittwoch\, dem 7.9. findet der nächste offene Stammtisch in Gummersbach statt. Der Ort wird wieder kurz vorher bekannt gegeben. \n 
URL:https://afd-oberberg.de/event/stammtisch-in-gummersbach-am-7-9/
END:VEVENT
BEGIN:VEVENT
DTSTART;TZID=Europe/Berlin:20160920T190000
DTEND;TZID=Europe/Berlin:20160920T210000
DTSTAMP:20260423T154122
CREATED:20160914T153826Z
LAST-MODIFIED:20160914T153826Z
UID:12981-1474398000-1474405200@afd-oberberg.de
SUMMARY:Stammtisch in Wiehl
DESCRIPTION:Am Dienstag\, dem 20.9. findet unser nächster Stammtisch in Wiehl statt. Neue Interessenten und Gäste sind willkommen. \nDer Ort wird kurzfristig bekannt gegeben. \nEs grüßt Sie\, \nIhr \nKreisvorstand AfD Oberberg \n 
URL:https://afd-oberberg.de/event/stammtisch-in-wiehl/
END:VEVENT
END:VCALENDAR