BEGIN:VCALENDAR
VERSION:2.0
PRODID:-//AfD Kreisverband Oberberg - ECPv6.15.20//NONSGML v1.0//EN
CALSCALE:GREGORIAN
METHOD:PUBLISH
X-WR-CALNAME:AfD Kreisverband Oberberg
X-ORIGINAL-URL:https://afd-oberberg.de
X-WR-CALDESC:Veranstaltungen für AfD Kreisverband Oberberg
REFRESH-INTERVAL;VALUE=DURATION:PT1H
X-Robots-Tag:noindex
X-PUBLISHED-TTL:PT1H
BEGIN:VTIMEZONE
TZID:Europe/Berlin
BEGIN:DAYLIGHT
TZOFFSETFROM:+0100
TZOFFSETTO:+0200
TZNAME:CEST
DTSTART:20150329T010000
END:DAYLIGHT
BEGIN:STANDARD
TZOFFSETFROM:+0200
TZOFFSETTO:+0100
TZNAME:CET
DTSTART:20151025T010000
END:STANDARD
BEGIN:DAYLIGHT
TZOFFSETFROM:+0100
TZOFFSETTO:+0200
TZNAME:CEST
DTSTART:20160327T010000
END:DAYLIGHT
BEGIN:STANDARD
TZOFFSETFROM:+0200
TZOFFSETTO:+0100
TZNAME:CET
DTSTART:20161030T010000
END:STANDARD
BEGIN:DAYLIGHT
TZOFFSETFROM:+0100
TZOFFSETTO:+0200
TZNAME:CEST
DTSTART:20170326T010000
END:DAYLIGHT
BEGIN:STANDARD
TZOFFSETFROM:+0200
TZOFFSETTO:+0100
TZNAME:CET
DTSTART:20171029T010000
END:STANDARD
END:VTIMEZONE
BEGIN:VEVENT
DTSTART;TZID=Europe/Berlin:20160726T190000
DTEND;TZID=Europe/Berlin:20160726T213000
DTSTAMP:20260425T134349
CREATED:20160621T110640Z
LAST-MODIFIED:20160721T142606Z
UID:12656-1469559600-1469568600@afd-oberberg.de
SUMMARY:Stammtisch in Wiehl
DESCRIPTION:Die AfD-Oberberg lädt zum nächsten Stammtisch in Wiehl ein.\nThema: Standpunkte der AfD – unser Grundsatzprogramm\nTag: 26.07.2016\nUhrzeit  19 Uhr\nOrt: nähe Wiehl \nInteressierte\, die noch nicht in unserem Verteiler stehen\, bitten wir um Anmeldung unter kontakt@afd-oberberg.de. Sie erhalten dann rechtzeitig vorab den genauen Treffpunkt. \nLeider sind in den letzten Wochen auch im Oberbergischen Kreis Wirte\, die uns Räumlichkeiten zur Verfügung stellen\, öffentlich dafür diffamiert worden. Wir wollen unsere Wirte vor diesen Umtrieben weitestgehend schützen und werden daher die Veranstaltungsorte bis auf weiteres nicht mehr öffentlich bekannt geben. Wir bitten um Ihr Verständnis! \nWeiter Stammtische finden in kürze in Wiehl\, Marienheide\, Lindlar und Hückeswagen statt. \nWir laden alle interessierten Bürgerinnen und Bürger herzlich ein und freuen uns auf einen offenen Dialog mit Ihnen. \nIhr \nKreisvorstand AfD-Oberberg
URL:https://afd-oberberg.de/event/stammtisch-in-wiehl-2/
LOCATION:Unbenannter Veranstaltungsort\, Wiehl\, Deutschland
CATEGORIES:Offener Stammtisch
END:VEVENT
END:VCALENDAR