BEGIN:VCALENDAR
VERSION:2.0
PRODID:-//AfD Kreisverband Oberberg - ECPv6.15.20//NONSGML v1.0//EN
CALSCALE:GREGORIAN
METHOD:PUBLISH
X-WR-CALNAME:AfD Kreisverband Oberberg
X-ORIGINAL-URL:https://afd-oberberg.de
X-WR-CALDESC:Veranstaltungen für AfD Kreisverband Oberberg
REFRESH-INTERVAL;VALUE=DURATION:PT1H
X-Robots-Tag:noindex
X-PUBLISHED-TTL:PT1H
BEGIN:VTIMEZONE
TZID:Europe/Berlin
BEGIN:DAYLIGHT
TZOFFSETFROM:+0100
TZOFFSETTO:+0200
TZNAME:CEST
DTSTART:20160327T010000
END:DAYLIGHT
BEGIN:STANDARD
TZOFFSETFROM:+0200
TZOFFSETTO:+0100
TZNAME:CET
DTSTART:20161030T010000
END:STANDARD
BEGIN:DAYLIGHT
TZOFFSETFROM:+0100
TZOFFSETTO:+0200
TZNAME:CEST
DTSTART:20170326T010000
END:DAYLIGHT
BEGIN:STANDARD
TZOFFSETFROM:+0200
TZOFFSETTO:+0100
TZNAME:CET
DTSTART:20171029T010000
END:STANDARD
BEGIN:DAYLIGHT
TZOFFSETFROM:+0100
TZOFFSETTO:+0200
TZNAME:CEST
DTSTART:20180325T010000
END:DAYLIGHT
BEGIN:STANDARD
TZOFFSETFROM:+0200
TZOFFSETTO:+0100
TZNAME:CET
DTSTART:20181028T010000
END:STANDARD
END:VTIMEZONE
BEGIN:VEVENT
DTSTART;TZID=Europe/Berlin:20170906T190000
DTEND;TZID=Europe/Berlin:20170906T213000
DTSTAMP:20260422T133126
CREATED:20170903T075335Z
LAST-MODIFIED:20170903T075335Z
UID:24398-1504724400-1504733400@afd-oberberg.de
SUMMARY:Hinweis: Veranstaltung in Bergisch Gladbach am Mittwoch\, 6.9.17
DESCRIPTION:Unter dem Titel: „Bürger fragen – Wir antworten“ gibt es am Mittwoch\, dem 6.9. Vorträge mit anschließender Podiumsdiskussion. \nSpitzenkandidaten der AfD – Martin Renner\, Dr. Roland Hartwig\, Guido Reil – und ein Überraschungsgast –  sprechen über Themen zumWahlprogramm: \nDemokratie – Sicherheit – Zuwanderung – Bildung – Soziales \n51465 Bergisch Gladbach \nKonrad-Adenauer-Platz 3 \n„Bergischer Löwe“ \nEinlass: ab 18.00 Uhr \nBeginn: 19.00Uhr \nKommen Sie und helfen Sie\, dass diese Veranstaltung zu einem Medienereignis wird! \nMit besten Grüßen\, \nIhre AfD Oberberg \n 
URL:https://afd-oberberg.de/event/hinweis-veranstaltung-in-bergisch-gladbach-am-mittwoch-6-9-17/
END:VEVENT
END:VCALENDAR