BEGIN:VCALENDAR
VERSION:2.0
PRODID:-//AfD Kreisverband Oberberg - ECPv6.15.20//NONSGML v1.0//EN
CALSCALE:GREGORIAN
METHOD:PUBLISH
X-WR-CALNAME:AfD Kreisverband Oberberg
X-ORIGINAL-URL:https://afd-oberberg.de
X-WR-CALDESC:Veranstaltungen für AfD Kreisverband Oberberg
REFRESH-INTERVAL;VALUE=DURATION:PT1H
X-Robots-Tag:noindex
X-PUBLISHED-TTL:PT1H
BEGIN:VTIMEZONE
TZID:Europe/Berlin
BEGIN:DAYLIGHT
TZOFFSETFROM:+0100
TZOFFSETTO:+0200
TZNAME:CEST
DTSTART:20160327T010000
END:DAYLIGHT
BEGIN:STANDARD
TZOFFSETFROM:+0200
TZOFFSETTO:+0100
TZNAME:CET
DTSTART:20161030T010000
END:STANDARD
BEGIN:DAYLIGHT
TZOFFSETFROM:+0100
TZOFFSETTO:+0200
TZNAME:CEST
DTSTART:20170326T010000
END:DAYLIGHT
BEGIN:STANDARD
TZOFFSETFROM:+0200
TZOFFSETTO:+0100
TZNAME:CET
DTSTART:20171029T010000
END:STANDARD
BEGIN:DAYLIGHT
TZOFFSETFROM:+0100
TZOFFSETTO:+0200
TZNAME:CEST
DTSTART:20180325T010000
END:DAYLIGHT
BEGIN:STANDARD
TZOFFSETFROM:+0200
TZOFFSETTO:+0100
TZNAME:CET
DTSTART:20181028T010000
END:STANDARD
END:VTIMEZONE
BEGIN:VEVENT
DTSTART;TZID=Europe/Berlin:20170831T080000
DTEND;TZID=Europe/Berlin:20170831T130000
DTSTAMP:20260420T193550
CREATED:20170825T150753Z
LAST-MODIFIED:20170825T150753Z
UID:24375-1504166400-1504184400@afd-oberberg.de
SUMMARY:Infostand in Waldbröl
DESCRIPTION:Unser nächster Wahl – Infostand wird sein am Donnerstag\, dem 31.7. auf dem Traditionsmarkt in Waldbröl. Helfer aus unseren Reihen sind herzlich willkommen! \nMit herzlichem Gruß\, \nIhre \nAfD Oberberg
URL:https://afd-oberberg.de/event/infostand-in-waldbroel-2/
END:VEVENT
END:VCALENDAR