BEGIN:VCALENDAR
VERSION:2.0
PRODID:-//AfD Kreisverband Oberberg - ECPv6.15.20//NONSGML v1.0//EN
CALSCALE:GREGORIAN
METHOD:PUBLISH
X-WR-CALNAME:AfD Kreisverband Oberberg
X-ORIGINAL-URL:https://afd-oberberg.de
X-WR-CALDESC:Veranstaltungen für AfD Kreisverband Oberberg
REFRESH-INTERVAL;VALUE=DURATION:PT1H
X-Robots-Tag:noindex
X-PUBLISHED-TTL:PT1H
BEGIN:VTIMEZONE
TZID:Europe/Berlin
BEGIN:DAYLIGHT
TZOFFSETFROM:+0100
TZOFFSETTO:+0200
TZNAME:CEST
DTSTART:20160327T010000
END:DAYLIGHT
BEGIN:STANDARD
TZOFFSETFROM:+0200
TZOFFSETTO:+0100
TZNAME:CET
DTSTART:20161030T010000
END:STANDARD
BEGIN:DAYLIGHT
TZOFFSETFROM:+0100
TZOFFSETTO:+0200
TZNAME:CEST
DTSTART:20170326T010000
END:DAYLIGHT
BEGIN:STANDARD
TZOFFSETFROM:+0200
TZOFFSETTO:+0100
TZNAME:CET
DTSTART:20171029T010000
END:STANDARD
BEGIN:DAYLIGHT
TZOFFSETFROM:+0100
TZOFFSETTO:+0200
TZNAME:CEST
DTSTART:20180325T010000
END:DAYLIGHT
BEGIN:STANDARD
TZOFFSETFROM:+0200
TZOFFSETTO:+0100
TZNAME:CET
DTSTART:20181028T010000
END:STANDARD
END:VTIMEZONE
BEGIN:VEVENT
DTSTART;TZID=Europe/Berlin:20170824T190000
DTEND;TZID=Europe/Berlin:20170824T210000
DTSTAMP:20260420T210002
CREATED:20170815T131134Z
LAST-MODIFIED:20170815T131134Z
UID:24295-1503601200-1503608400@afd-oberberg.de
SUMMARY:Bürger - Infotreff  in Wipperfürth
DESCRIPTION:Unser nächster Bürger – Infotreff findet statt am Donnerstag\, dem 24.8. in Wipperfürth. Für diesen Termin werden wir uns wieder um einen Referenten aus dem Kreis der Bundestagskandidaten bemühen. \nDurch den Veranstaltungsort möchten wir den Mitgliedern und Freunden aus dem Nordkreis entgegenkommen. Die Einzelheiten der Adresse werden aus bekannten Gründen wieder kurz vor der Veranstaltung bekannt gegeben. \nMit herzlichem Gruß\, \nIhre \nAfD Oberberg
URL:https://afd-oberberg.de/event/buerger-infotreff-in-wipperfuerth/
END:VEVENT
END:VCALENDAR