BEGIN:VCALENDAR
VERSION:2.0
PRODID:-//AfD Kreisverband Oberberg - ECPv6.15.20//NONSGML v1.0//EN
CALSCALE:GREGORIAN
METHOD:PUBLISH
X-ORIGINAL-URL:https://afd-oberberg.de
X-WR-CALDESC:Veranstaltungen für AfD Kreisverband Oberberg
REFRESH-INTERVAL;VALUE=DURATION:PT1H
X-Robots-Tag:noindex
X-PUBLISHED-TTL:PT1H
BEGIN:VTIMEZONE
TZID:Europe/Berlin
BEGIN:DAYLIGHT
TZOFFSETFROM:+0100
TZOFFSETTO:+0200
TZNAME:CEST
DTSTART:20160327T010000
END:DAYLIGHT
BEGIN:STANDARD
TZOFFSETFROM:+0200
TZOFFSETTO:+0100
TZNAME:CET
DTSTART:20161030T010000
END:STANDARD
BEGIN:DAYLIGHT
TZOFFSETFROM:+0100
TZOFFSETTO:+0200
TZNAME:CEST
DTSTART:20170326T010000
END:DAYLIGHT
BEGIN:STANDARD
TZOFFSETFROM:+0200
TZOFFSETTO:+0100
TZNAME:CET
DTSTART:20171029T010000
END:STANDARD
BEGIN:DAYLIGHT
TZOFFSETFROM:+0100
TZOFFSETTO:+0200
TZNAME:CEST
DTSTART:20180325T010000
END:DAYLIGHT
BEGIN:STANDARD
TZOFFSETFROM:+0200
TZOFFSETTO:+0100
TZNAME:CET
DTSTART:20181028T010000
END:STANDARD
END:VTIMEZONE
BEGIN:VEVENT
DTSTART;TZID=Europe/Berlin:20170725T190000
DTEND;TZID=Europe/Berlin:20170725T210000
DTSTAMP:20260420T222956
CREATED:20170720T100709Z
LAST-MODIFIED:20170720T100709Z
UID:19629-1501009200-1501016400@afd-oberberg.de
SUMMARY:Bürger- Infotreff am 25.7. in Wiehl
DESCRIPTION:Liebe Mitglieder\, Förderer und Freunde der AfD Oberberg\, \nunser nächster Bürger- Infotreff findet statt  im Hotel – Restaurant „Plattes“ in Wiehl\, Hauptstraße 25\, \nam Dienstag\, dem 25.7.  Beginn: 19.00 Uhr. \nUnser Direktkandidat für den Bundestag\, Herr Stefan Zühlke\, wird einen Einblick geben in sein politisches Schwerpunkt-Thema: „Stärkung des ländlichen Raums“. \nAnschließend berichtet Herr Roger Beckamp\, Mitglied der AfD Fraktion im Düsseldorfer Landtag\, über die Arbeit an seiner neuen Wirkungsstätte. \nAn beide Vorträge sollen sich wieder Fragen und Diskussionen anschließen. \nGäste und Interessenten sind willkommen! \nMit herzlichem Gruß\, \nIhre AfD Oberberg
URL:https://afd-oberberg.de/event/buerger-infotreff-am-25-7-in-wiehl/
END:VEVENT
END:VCALENDAR