BEGIN:VCALENDAR
VERSION:2.0
PRODID:-//AfD Kreisverband Oberberg - ECPv6.15.20//NONSGML v1.0//EN
CALSCALE:GREGORIAN
METHOD:PUBLISH
X-ORIGINAL-URL:https://afd-oberberg.de
X-WR-CALDESC:Veranstaltungen für AfD Kreisverband Oberberg
REFRESH-INTERVAL;VALUE=DURATION:PT1H
X-Robots-Tag:noindex
X-PUBLISHED-TTL:PT1H
BEGIN:VTIMEZONE
TZID:Europe/Berlin
BEGIN:DAYLIGHT
TZOFFSETFROM:+0100
TZOFFSETTO:+0200
TZNAME:CEST
DTSTART:20160327T010000
END:DAYLIGHT
BEGIN:STANDARD
TZOFFSETFROM:+0200
TZOFFSETTO:+0100
TZNAME:CET
DTSTART:20161030T010000
END:STANDARD
BEGIN:DAYLIGHT
TZOFFSETFROM:+0100
TZOFFSETTO:+0200
TZNAME:CEST
DTSTART:20170326T010000
END:DAYLIGHT
BEGIN:STANDARD
TZOFFSETFROM:+0200
TZOFFSETTO:+0100
TZNAME:CET
DTSTART:20171029T010000
END:STANDARD
BEGIN:DAYLIGHT
TZOFFSETFROM:+0100
TZOFFSETTO:+0200
TZNAME:CEST
DTSTART:20180325T010000
END:DAYLIGHT
BEGIN:STANDARD
TZOFFSETFROM:+0200
TZOFFSETTO:+0100
TZNAME:CET
DTSTART:20181028T010000
END:STANDARD
END:VTIMEZONE
BEGIN:VEVENT
DTSTART;TZID=Europe/Berlin:20170404T190000
DTEND;TZID=Europe/Berlin:20170404T210000
DTSTAMP:20260421T033740
CREATED:20170331T182921Z
LAST-MODIFIED:20170331T182921Z
UID:13640-1491332400-1491339600@afd-oberberg.de
SUMMARY:Bürgertreff in Wiehl am 4.4.17
DESCRIPTION:Am Dienstag\, dem 4.4.17 findet im Hotel Platte in Wiehl im Rahmen unseres Bürgertreffs wieder ein interessanter Vortrag statt. Das Thema lautet:“ Bildung und Schule in Zeiten der Globalisierung“. Der Referent\, Helmut Seifen\, schulpolitischer Sprecher der AfD NRW und Vorsitzender des Landesfachausschusses „Bildung und Schule“ \, wird die Grundsätze der AfD für eine erfolgreiche Bildungspolitik in NRW vorstellen. \nHerr Seifen wird darstellen\, wie man mit der Rückbesinnung auf den Wesenskern der deutschen Bildungstradition die heutigen Kinder und Jugendlichen auf die Anforderungen der globalisierten Welt vorbereiten kann. \nAlle interessierten Bürger sind willkommen! \nIm Anschluss an den Vortrag ist Raum für eine – wie bei uns immer – engagierte Diskussion! \nOrt: Hotel Platte \, Hauptstraße 25\, 51674 Wiehl \nBeginn: 19.00 Uhr \nHerzliche Grüße\, \nIhre AfD Oberberg
URL:https://afd-oberberg.de/event/buergertreff-in-wiehl-am-4-4-17/
END:VEVENT
END:VCALENDAR