BEGIN:VCALENDAR
VERSION:2.0
PRODID:-//AfD Kreisverband Oberberg - ECPv6.15.20//NONSGML v1.0//EN
CALSCALE:GREGORIAN
METHOD:PUBLISH
X-ORIGINAL-URL:https://afd-oberberg.de
X-WR-CALDESC:Veranstaltungen für AfD Kreisverband Oberberg
REFRESH-INTERVAL;VALUE=DURATION:PT1H
X-Robots-Tag:noindex
X-PUBLISHED-TTL:PT1H
BEGIN:VTIMEZONE
TZID:Europe/Berlin
BEGIN:DAYLIGHT
TZOFFSETFROM:+0100
TZOFFSETTO:+0200
TZNAME:CEST
DTSTART:20160327T010000
END:DAYLIGHT
BEGIN:STANDARD
TZOFFSETFROM:+0200
TZOFFSETTO:+0100
TZNAME:CET
DTSTART:20161030T010000
END:STANDARD
BEGIN:DAYLIGHT
TZOFFSETFROM:+0100
TZOFFSETTO:+0200
TZNAME:CEST
DTSTART:20170326T010000
END:DAYLIGHT
BEGIN:STANDARD
TZOFFSETFROM:+0200
TZOFFSETTO:+0100
TZNAME:CET
DTSTART:20171029T010000
END:STANDARD
BEGIN:DAYLIGHT
TZOFFSETFROM:+0100
TZOFFSETTO:+0200
TZNAME:CEST
DTSTART:20180325T010000
END:DAYLIGHT
BEGIN:STANDARD
TZOFFSETFROM:+0200
TZOFFSETTO:+0100
TZNAME:CET
DTSTART:20181028T010000
END:STANDARD
END:VTIMEZONE
BEGIN:VEVENT
DTSTART;TZID=Europe/Berlin:20170207T190000
DTEND;TZID=Europe/Berlin:20170207T210000
DTSTAMP:20260421T070421
CREATED:20170202T144257Z
LAST-MODIFIED:20170202T144257Z
UID:13201-1486494000-1486501200@afd-oberberg.de
SUMMARY:Stammtisch in Wiehl
DESCRIPTION:Am Dienstag\, dem 7.2. steht im Rahmen des Wiehler Stammtisches wieder ein Vortrag zu einem sehr  aktuellen Thema auf der Tagesordnung. \nHerr Markus Matzerath\, Mitglied des Bundesgrenzschutzes und der Bundespolizei und AfD Mitglied der „ersten Stunde“ \, wird über eins der momentan wohl politisch brisantesten Themen referieren\, und zwar über die „Sicherung der deutschen Grenzen“. \nDarüber hinaus gibt er Einblick in den Aufbau der Bundespolizei mit ihren Spezialverbänden und deren Aufgaben. \nEs ist zu erwarten\, dass sich eine lebhafte Diskussion anschließen wird. \nBeginn: 19.00 Uhr \nDer Veranstaltungsort wird wie immer kurzfristig bekannt gegeben.
URL:https://afd-oberberg.de/event/stammtisch-in-wiehl-4/
END:VEVENT
END:VCALENDAR