BEGIN:VCALENDAR
VERSION:2.0
PRODID:-//AfD Kreisverband Oberberg - ECPv6.15.20//NONSGML v1.0//EN
CALSCALE:GREGORIAN
METHOD:PUBLISH
X-ORIGINAL-URL:https://afd-oberberg.de
X-WR-CALDESC:Veranstaltungen für AfD Kreisverband Oberberg
REFRESH-INTERVAL;VALUE=DURATION:PT1H
X-Robots-Tag:noindex
X-PUBLISHED-TTL:PT1H
BEGIN:VTIMEZONE
TZID:Europe/Berlin
BEGIN:DAYLIGHT
TZOFFSETFROM:+0100
TZOFFSETTO:+0200
TZNAME:CEST
DTSTART:20150329T010000
END:DAYLIGHT
BEGIN:STANDARD
TZOFFSETFROM:+0200
TZOFFSETTO:+0100
TZNAME:CET
DTSTART:20151025T010000
END:STANDARD
BEGIN:DAYLIGHT
TZOFFSETFROM:+0100
TZOFFSETTO:+0200
TZNAME:CEST
DTSTART:20160327T010000
END:DAYLIGHT
BEGIN:STANDARD
TZOFFSETFROM:+0200
TZOFFSETTO:+0100
TZNAME:CET
DTSTART:20161030T010000
END:STANDARD
BEGIN:DAYLIGHT
TZOFFSETFROM:+0100
TZOFFSETTO:+0200
TZNAME:CEST
DTSTART:20170326T010000
END:DAYLIGHT
BEGIN:STANDARD
TZOFFSETFROM:+0200
TZOFFSETTO:+0100
TZNAME:CET
DTSTART:20171029T010000
END:STANDARD
END:VTIMEZONE
BEGIN:VEVENT
DTSTART;TZID=Europe/Berlin:20160823T190000
DTEND;TZID=Europe/Berlin:20160823T210000
DTSTAMP:20260425T133428
CREATED:20160808T170138Z
LAST-MODIFIED:20170224T194546Z
UID:12856-1471978800-1471986000@afd-oberberg.de
SUMMARY:Stammtisch in Wiehl
DESCRIPTION:Am Dienstag\, dem 23.8. findet unser nächster Stammtisch statt. Beginn ist wie immer um 19.00 Uhr. \nDie Örtlichkeit wird aus bekannten Gründen wieder erst kurz vorher bekannt gegeben. Bei Interesse an einer Teilnahme melden Sie sich bitte unter kontakt@afd-oberberg.de. \nWie schon angekündigt\, wollen wir unsere Stammtische in Zukunft unter ein bestimmtes Thema stellen. Für den 23.8. soll dies sein: „Politische Kampfsprache“ .  Angesichts der sich nähernden Wahlkampfzeiten wird dieses Thema immer aktueller werden. \nBeiträge und Vorschläge für künftige Themen aus unserem Personenkreis sind willkommen. \nWir freuen uns auf Ihre Teilnahme! \nHerzliche Grüße \nIhr AfD-Kreisverband Oberberg \n 
URL:https://afd-oberberg.de/event/stammtisch/
CATEGORIES:Offener Stammtisch
ATTACH;FMTTYPE=image/png:https://afd-oberberg.de/wp-content/uploads/2017/02/AfD-Bürgertreff-Logo.png
END:VEVENT
END:VCALENDAR